BEGIN:VCALENDAR
VERSION:2.0
PRODID:-//wp-events-plugin.com//6.6.1//EN
TZID:Europe/Vienna
X-WR-TIMEZONE:Europe/Vienna
BEGIN:VEVENT
UID:61@lungauerkochwerk.at
DTSTART;TZID=Europe/Berlin:20221109T140000
DTEND;TZID=Europe/Berlin:20221109T180000
DTSTAMP:20251116T030201Z
URL:https://www.lungauerkochwerk.at/veranstaltungen/martinigansl/
SUMMARY:Martinigansl
DESCRIPTION:Alles von der Gans
ATTACH;FMTTYPE=image/jpeg:https://www.lungauerkochwerk.at/wp-content/uploa
 ds/2022/09/Gansl.jpg
CATEGORIES:Veranstaltung
LOCATION:Goldader Alpine Kulinarik\, Litzelsdorf 281\, Tamsweg\, Österreic
 h
GEO:47.135381;13.797888
X-APPLE-STRUCTURED-LOCATION;VALUE=URI;X-ADDRESS=Litzelsdorf 281\, Tamsweg\,
  Österreich;X-APPLE-RADIUS=100;X-TITLE=Goldader Alpine Kulinarik:geo:47.1
 35381,13.797888
END:VEVENT
BEGIN:VTIMEZONE
TZID:Europe/Berlin
X-LIC-LOCATION:Europe/Berlin
BEGIN:STANDARD
DTSTART:20221030T020000
TZOFFSETFROM:+0200
TZOFFSETTO:+0100
TZNAME:CET
END:STANDARD
END:VTIMEZONE
END:VCALENDAR